BEGIN:VCALENDAR
VERSION:2.0
PRODID:-//Ev. Kirche Dillenburg - ECPv6.15.16//NONSGML v1.0//EN
CALSCALE:GREGORIAN
METHOD:PUBLISH
X-WR-CALNAME:Ev. Kirche Dillenburg
X-ORIGINAL-URL:https://www.ev-kirche-dillenburg.de
X-WR-CALDESC:Veranstaltungen für Ev. Kirche Dillenburg
REFRESH-INTERVAL;VALUE=DURATION:PT1H
X-Robots-Tag:noindex
X-PUBLISHED-TTL:PT1H
BEGIN:VTIMEZONE
TZID:Europe/Berlin
BEGIN:DAYLIGHT
TZOFFSETFROM:+0100
TZOFFSETTO:+0200
TZNAME:CEST
DTSTART:20210328T010000
END:DAYLIGHT
BEGIN:STANDARD
TZOFFSETFROM:+0200
TZOFFSETTO:+0100
TZNAME:CET
DTSTART:20211031T010000
END:STANDARD
BEGIN:DAYLIGHT
TZOFFSETFROM:+0100
TZOFFSETTO:+0200
TZNAME:CEST
DTSTART:20220327T010000
END:DAYLIGHT
BEGIN:STANDARD
TZOFFSETFROM:+0200
TZOFFSETTO:+0100
TZNAME:CET
DTSTART:20221030T010000
END:STANDARD
BEGIN:DAYLIGHT
TZOFFSETFROM:+0100
TZOFFSETTO:+0200
TZNAME:CEST
DTSTART:20230326T010000
END:DAYLIGHT
BEGIN:STANDARD
TZOFFSETFROM:+0200
TZOFFSETTO:+0100
TZNAME:CET
DTSTART:20231029T010000
END:STANDARD
END:VTIMEZONE
BEGIN:VEVENT
DTSTART;TZID=Europe/Berlin:20221031T183000
DTEND;TZID=Europe/Berlin:20221031T200000
DTSTAMP:20260423T002957
CREATED:20220723T114759Z
LAST-MODIFIED:20220723T114858Z
UID:9166-1667241000-1667246400@www.ev-kirche-dillenburg.de
SUMMARY:Gottesdienst zum Reformationstag (vsl. in Sechshelden)
DESCRIPTION:Reformationstag\nGemeinsamer Gottesdienst der Kirchengemeinden Dillenburg\, Donsbach und Sechshelden \nMit Pfarrer Dr. Friedhelm Ackva und Pfarrer Ralf Arnd Blecker\nKollekte: Steht noch nicht fest \nIm Augenblick gelten keine verpflichtenden Hygieneregeln. Wir bitten Sie jedoch trotzdem während des Gottesdienstes eine Maske zu tragen. Während der Predigt kann sie abgenommen werden.
URL:https://www.ev-kirche-dillenburg.de/veranstaltung/gottesdienst-zum-reformationstag-vsl-in-sechshelden/
LOCATION:Ev. Kirche Sechshelden\, Kirchberg 9\, Haiger-Sechselden\, Hessen\, 35708\, Deutschland
CATEGORIES:Gottesdienst,Pfarr-Team
END:VEVENT
END:VCALENDAR