BEGIN:VCALENDAR
VERSION:2.0
PRODID:-//Ev. Kirche Dillenburg - ECPv6.15.16//NONSGML v1.0//EN
CALSCALE:GREGORIAN
METHOD:PUBLISH
X-ORIGINAL-URL:https://www.ev-kirche-dillenburg.de
X-WR-CALDESC:Veranstaltungen für Ev. Kirche Dillenburg
REFRESH-INTERVAL;VALUE=DURATION:PT1H
X-Robots-Tag:noindex
X-PUBLISHED-TTL:PT1H
BEGIN:VTIMEZONE
TZID:Europe/Berlin
BEGIN:DAYLIGHT
TZOFFSETFROM:+0100
TZOFFSETTO:+0200
TZNAME:CEST
DTSTART:20210328T010000
END:DAYLIGHT
BEGIN:STANDARD
TZOFFSETFROM:+0200
TZOFFSETTO:+0100
TZNAME:CET
DTSTART:20211031T010000
END:STANDARD
BEGIN:DAYLIGHT
TZOFFSETFROM:+0100
TZOFFSETTO:+0200
TZNAME:CEST
DTSTART:20220327T010000
END:DAYLIGHT
BEGIN:STANDARD
TZOFFSETFROM:+0200
TZOFFSETTO:+0100
TZNAME:CET
DTSTART:20221030T010000
END:STANDARD
BEGIN:DAYLIGHT
TZOFFSETFROM:+0100
TZOFFSETTO:+0200
TZNAME:CEST
DTSTART:20230326T010000
END:DAYLIGHT
BEGIN:STANDARD
TZOFFSETFROM:+0200
TZOFFSETTO:+0100
TZNAME:CET
DTSTART:20231029T010000
END:STANDARD
END:VTIMEZONE
BEGIN:VEVENT
DTSTART;TZID=Europe/Berlin:20221106T100000
DTEND;TZID=Europe/Berlin:20221106T113000
DTSTAMP:20260423T002223
CREATED:20220723T115049Z
LAST-MODIFIED:20221101T145059Z
UID:9170-1667728800-1667734200@www.ev-kirche-dillenburg.de
SUMMARY:Gottesdienst in einfacher Sprache
DESCRIPTION:Drittletzter Sonntag im Kirchenjahr \nMit Pfarrerin Bettina Marloth\nKollekte: Lebenshilfe Dillenburg e.V. \nPfarrerin Bettina Marloth aus Herborn ist Pfarrerin für Inklusion in der Propstei Nord Nassau. Sie feiert gerne Gottesdienste in einfacher Sprache und mit Symbolen. Und ihre Gottesdienste sind auch nicht so lang wie üblich – 45 Minuten werden sie höchstens dauern. Denn für manche Menschen ist es anstrengend\, lange zu sitzen oder zuzuhören. Vielleicht hat jemand eine körperliche Einschränkung. Oder erlebt gerade eine besonders schwierige Zeit. Aber gerade dann ist es gut\, Zuspruch zu erfahren und von Gottes Liebe zu hören.\nKollekte: Lebenshilfe Dillenburg e.V. \nIm Augenblick gelten keine verpflichtenden Hygieneregeln. Wir bitten Sie jedoch trotzdem während des Gottesdienstes eine Maske zu tragen. Während der Predigt kann sie abgenommen werden. \nWINTERKIRCHE: Bitte beachten Sie\, dass entgegen Eintragungen im Gemeindebrief ab jetzt fast alle Gottesdienste\, die sonst in der Kirche stattfinden\, im Gemeindehaus stattfinden.
URL:https://www.ev-kirche-dillenburg.de/veranstaltung/gottesdienst-in-einfacher-sprache-8/
LOCATION:Gemeindehaus am Zwingel\, Am Zwingel 3\, Dillenburg\, Hessen\, 35683
CATEGORIES:Einfache Sprache,Gottesdienst,Pfarrerin Marloth
END:VEVENT
BEGIN:VEVENT
DTSTART;TZID=Europe/Berlin:20221106T170000
DTEND;TZID=Europe/Berlin:20221106T183000
DTSTAMP:20260423T002223
CREATED:20220905T051144Z
LAST-MODIFIED:20220905T051203Z
UID:9327-1667754000-1667759400@www.ev-kirche-dillenburg.de
SUMMARY:Chorkonzert · Musikalische Exequien von Heinrich Schütz
DESCRIPTION:Mit dem Dillenburger Kammerchor \nDer Kammerchor Dillenburg widmet sich in seinem Konzert am 6. November um 17 Uhr in der evangelischen Stadtkirche einem berühmten Jubilar: Heinrich Schütz\, dessen Todestag sich an diesem Tag zum 350. Mal jährt. Das Programm beinhaltet als Hauptwerk die Musikalischen Exequien von Heinrich Schütz. Das Werk ist eine Begräbnismusik in drei Teilen in deutscher Sprache und entstand 1636 in Dresden.\nDer Kammerchor Dillenburg\, der über langjährige Erfahrung mit der Chormusik von Schütz verfügt\, wird von einem Instrumentalensemble begleitet. Einzelne Chormitglieder werden auch solistische Partien übernehmen. Ergänzt wird das Programm mit Motetten weiterer frühbarocker Meister sowie durch Instrumentalmusik. \nKonzertkarten sind nur an der Abendkasse zum Preis von 10 € (ermäßigt 8 €) erhältlich.
URL:https://www.ev-kirche-dillenburg.de/veranstaltung/chorkonzert-%c2%b7-musikalische-exequien-von-heinrich-schuetz/
LOCATION:Ev. Stadtkirche Dillenburg\, Kirchberg 18\, Dillenburg\, Hessen\, 35683
CATEGORIES:Konzert,Musik
END:VEVENT
END:VCALENDAR