BEGIN:VCALENDAR
VERSION:2.0
PRODID:-//Ev. Kirche Dillenburg - ECPv6.15.16//NONSGML v1.0//EN
CALSCALE:GREGORIAN
METHOD:PUBLISH
X-ORIGINAL-URL:https://www.ev-kirche-dillenburg.de
X-WR-CALDESC:Veranstaltungen für Ev. Kirche Dillenburg
REFRESH-INTERVAL;VALUE=DURATION:PT1H
X-Robots-Tag:noindex
X-PUBLISHED-TTL:PT1H
BEGIN:VTIMEZONE
TZID:Europe/Berlin
BEGIN:DAYLIGHT
TZOFFSETFROM:+0100
TZOFFSETTO:+0200
TZNAME:CEST
DTSTART:20210328T010000
END:DAYLIGHT
BEGIN:STANDARD
TZOFFSETFROM:+0200
TZOFFSETTO:+0100
TZNAME:CET
DTSTART:20211031T010000
END:STANDARD
BEGIN:DAYLIGHT
TZOFFSETFROM:+0100
TZOFFSETTO:+0200
TZNAME:CEST
DTSTART:20220327T010000
END:DAYLIGHT
BEGIN:STANDARD
TZOFFSETFROM:+0200
TZOFFSETTO:+0100
TZNAME:CET
DTSTART:20221030T010000
END:STANDARD
BEGIN:DAYLIGHT
TZOFFSETFROM:+0100
TZOFFSETTO:+0200
TZNAME:CEST
DTSTART:20230326T010000
END:DAYLIGHT
BEGIN:STANDARD
TZOFFSETFROM:+0200
TZOFFSETTO:+0100
TZNAME:CET
DTSTART:20231029T010000
END:STANDARD
END:VTIMEZONE
BEGIN:VEVENT
DTSTART;TZID=Europe/Berlin:20221113T100000
DTEND;TZID=Europe/Berlin:20221113T113000
DTSTAMP:20260423T002957
CREATED:20220723T115504Z
LAST-MODIFIED:20220725T072957Z
UID:9173-1668333600-1668339000@www.ev-kirche-dillenburg.de
SUMMARY:Gottesdienst · Volktrauertag
DESCRIPTION:Vorletzter Sonntag des Kirchenjahres \nMit Pfarrer Dr. Friedhelm Ackva\nMit Abendmahl\nKollekte: Aktionsgemeinschaft Dienst für den Frieden (AGDF und ASF) \nIm Anschluss vsl. gemeinsames Mittagessen (nach Pandemielage) \nIm Augenblick gelten keine verpflichtenden Hygieneregeln. Wir bitten Sie jedoch trotzdem während des Gottesdienstes eine Maske zu tragen. Während der Predigt kann sie abgenommen werden.
URL:https://www.ev-kirche-dillenburg.de/veranstaltung/gottesdienst-%c2%b7-volktrauertag/
LOCATION:Gemeindehaus am Zwingel\, Am Zwingel 3\, Dillenburg\, Hessen\, 35683
CATEGORIES:Abendmahl,Pfarrer Dr. Ackva
END:VEVENT
END:VCALENDAR