BEGIN:VCALENDAR
VERSION:2.0
PRODID:-//Ev. Kirche Dillenburg - ECPv6.15.16//NONSGML v1.0//EN
CALSCALE:GREGORIAN
METHOD:PUBLISH
X-WR-CALNAME:Ev. Kirche Dillenburg
X-ORIGINAL-URL:https://www.ev-kirche-dillenburg.de
X-WR-CALDESC:Veranstaltungen für Ev. Kirche Dillenburg
REFRESH-INTERVAL;VALUE=DURATION:PT1H
X-Robots-Tag:noindex
X-PUBLISHED-TTL:PT1H
BEGIN:VTIMEZONE
TZID:Europe/Berlin
BEGIN:DAYLIGHT
TZOFFSETFROM:+0100
TZOFFSETTO:+0200
TZNAME:CEST
DTSTART:20220327T010000
END:DAYLIGHT
BEGIN:STANDARD
TZOFFSETFROM:+0200
TZOFFSETTO:+0100
TZNAME:CET
DTSTART:20221030T010000
END:STANDARD
BEGIN:DAYLIGHT
TZOFFSETFROM:+0100
TZOFFSETTO:+0200
TZNAME:CEST
DTSTART:20230326T010000
END:DAYLIGHT
BEGIN:STANDARD
TZOFFSETFROM:+0200
TZOFFSETTO:+0100
TZNAME:CET
DTSTART:20231029T010000
END:STANDARD
BEGIN:DAYLIGHT
TZOFFSETFROM:+0100
TZOFFSETTO:+0200
TZNAME:CEST
DTSTART:20240331T010000
END:DAYLIGHT
BEGIN:STANDARD
TZOFFSETFROM:+0200
TZOFFSETTO:+0100
TZNAME:CET
DTSTART:20241027T010000
END:STANDARD
END:VTIMEZONE
BEGIN:VEVENT
DTSTART;TZID=Europe/Berlin:20230110T193000
DTEND;TZID=Europe/Berlin:20230110T203000
DTSTAMP:20260422T202000
CREATED:20221110T132910Z
LAST-MODIFIED:20221110T134659Z
UID:9571-1673379000-1673382600@www.ev-kirche-dillenburg.de
SUMMARY:Allianzgebetswoche · 10. Januar
DESCRIPTION:Freude als Frucht des Heiligen Geistes (Galater 5\,22)\nMit Pastor Laurent Mutamba
URL:https://www.ev-kirche-dillenburg.de/veranstaltung/allianzgebetswoche-%c2%b7-10-1-23/
LOCATION:Freie ev. Gemeinde (FeG)\, Stadionstraße 4\, Dillenburg\, Hessen\, 35683
CATEGORIES:Allianzgebetswoche,Gottesdienst
END:VEVENT
END:VCALENDAR