BEGIN:VCALENDAR
VERSION:2.0
PRODID:-//Ev. Kirche Dillenburg - ECPv6.15.16//NONSGML v1.0//EN
CALSCALE:GREGORIAN
METHOD:PUBLISH
X-WR-CALNAME:Ev. Kirche Dillenburg
X-ORIGINAL-URL:https://www.ev-kirche-dillenburg.de
X-WR-CALDESC:Veranstaltungen für Ev. Kirche Dillenburg
REFRESH-INTERVAL;VALUE=DURATION:PT1H
X-Robots-Tag:noindex
X-PUBLISHED-TTL:PT1H
BEGIN:VTIMEZONE
TZID:Europe/Berlin
BEGIN:DAYLIGHT
TZOFFSETFROM:+0100
TZOFFSETTO:+0200
TZNAME:CEST
DTSTART:20220327T010000
END:DAYLIGHT
BEGIN:STANDARD
TZOFFSETFROM:+0200
TZOFFSETTO:+0100
TZNAME:CET
DTSTART:20221030T010000
END:STANDARD
BEGIN:DAYLIGHT
TZOFFSETFROM:+0100
TZOFFSETTO:+0200
TZNAME:CEST
DTSTART:20230326T010000
END:DAYLIGHT
BEGIN:STANDARD
TZOFFSETFROM:+0200
TZOFFSETTO:+0100
TZNAME:CET
DTSTART:20231029T010000
END:STANDARD
BEGIN:DAYLIGHT
TZOFFSETFROM:+0100
TZOFFSETTO:+0200
TZNAME:CEST
DTSTART:20240331T010000
END:DAYLIGHT
BEGIN:STANDARD
TZOFFSETFROM:+0200
TZOFFSETTO:+0100
TZNAME:CET
DTSTART:20241027T010000
END:STANDARD
END:VTIMEZONE
BEGIN:VEVENT
DTSTART;TZID=Europe/Berlin:20230111T193000
DTEND;TZID=Europe/Berlin:20230111T203000
DTSTAMP:20260424T115324
CREATED:20221110T133405Z
LAST-MODIFIED:20221110T134736Z
UID:9577-1673465400-1673469000@www.ev-kirche-dillenburg.de
SUMMARY:Allianzgebetswoche · 11. Januar
DESCRIPTION:Zur Freude geschaffen (Philipper 4\,4)\nMit Marie-Luise Ackva
URL:https://www.ev-kirche-dillenburg.de/veranstaltung/allianzgebetswoche-%c2%b7-11-januar/
LOCATION:Gemeindehaus am Zwingel\, Am Zwingel 3\, Dillenburg\, Hessen\, 35683
CATEGORIES:Allianzgebetswoche,Gottesdienst
END:VEVENT
END:VCALENDAR