BEGIN:VCALENDAR
VERSION:2.0
PRODID:-//Ev. Kirche Dillenburg - ECPv6.15.16//NONSGML v1.0//EN
CALSCALE:GREGORIAN
METHOD:PUBLISH
X-ORIGINAL-URL:https://www.ev-kirche-dillenburg.de
X-WR-CALDESC:Veranstaltungen für Ev. Kirche Dillenburg
REFRESH-INTERVAL;VALUE=DURATION:PT1H
X-Robots-Tag:noindex
X-PUBLISHED-TTL:PT1H
BEGIN:VTIMEZONE
TZID:Europe/Berlin
BEGIN:DAYLIGHT
TZOFFSETFROM:+0100
TZOFFSETTO:+0200
TZNAME:CEST
DTSTART:20220327T010000
END:DAYLIGHT
BEGIN:STANDARD
TZOFFSETFROM:+0200
TZOFFSETTO:+0100
TZNAME:CET
DTSTART:20221030T010000
END:STANDARD
BEGIN:DAYLIGHT
TZOFFSETFROM:+0100
TZOFFSETTO:+0200
TZNAME:CEST
DTSTART:20230326T010000
END:DAYLIGHT
BEGIN:STANDARD
TZOFFSETFROM:+0200
TZOFFSETTO:+0100
TZNAME:CET
DTSTART:20231029T010000
END:STANDARD
BEGIN:DAYLIGHT
TZOFFSETFROM:+0100
TZOFFSETTO:+0200
TZNAME:CEST
DTSTART:20240331T010000
END:DAYLIGHT
BEGIN:STANDARD
TZOFFSETFROM:+0200
TZOFFSETTO:+0100
TZNAME:CET
DTSTART:20241027T010000
END:STANDARD
END:VTIMEZONE
BEGIN:VEVENT
DTSTART;TZID=Europe/Berlin:20230326T100000
DTEND;TZID=Europe/Berlin:20230326T113000
DTSTAMP:20260422T170501
CREATED:20230214T132704Z
LAST-MODIFIED:20230214T132704Z
UID:10258-1679824800-1679830200@www.ev-kirche-dillenburg.de
SUMMARY:Gottesdienst (mit Kigo)
DESCRIPTION:Sonntag Judika\nMit Pfarrer Ralf Arnd Blecker\nMit Taufen\nKollekte: Stiftung Scheuern \nParallel zum Gottesdienst in der Stadtkirche ist Kindergottediest um 10 Uhr im Zwingel\nAnschl. Mittagessen im Zwingel
URL:https://www.ev-kirche-dillenburg.de/veranstaltung/gottesdienst-mit-kigo/
LOCATION:Ev. Stadtkirche Dillenburg\, Kirchberg 18\, Dillenburg\, Hessen\, 35683
CATEGORIES:Gottesdienst,Kindergottesdienst,Pfarrer Blecker
END:VEVENT
END:VCALENDAR