BEGIN:VCALENDAR
VERSION:2.0
PRODID:-//Ev. Kirche Dillenburg - ECPv6.15.16//NONSGML v1.0//EN
CALSCALE:GREGORIAN
METHOD:PUBLISH
X-WR-CALNAME:Ev. Kirche Dillenburg
X-ORIGINAL-URL:https://www.ev-kirche-dillenburg.de
X-WR-CALDESC:Veranstaltungen für Ev. Kirche Dillenburg
REFRESH-INTERVAL;VALUE=DURATION:PT1H
X-Robots-Tag:noindex
X-PUBLISHED-TTL:PT1H
BEGIN:VTIMEZONE
TZID:Europe/Berlin
BEGIN:DAYLIGHT
TZOFFSETFROM:+0100
TZOFFSETTO:+0200
TZNAME:CEST
DTSTART:20220327T010000
END:DAYLIGHT
BEGIN:STANDARD
TZOFFSETFROM:+0200
TZOFFSETTO:+0100
TZNAME:CET
DTSTART:20221030T010000
END:STANDARD
BEGIN:DAYLIGHT
TZOFFSETFROM:+0100
TZOFFSETTO:+0200
TZNAME:CEST
DTSTART:20230326T010000
END:DAYLIGHT
BEGIN:STANDARD
TZOFFSETFROM:+0200
TZOFFSETTO:+0100
TZNAME:CET
DTSTART:20231029T010000
END:STANDARD
BEGIN:DAYLIGHT
TZOFFSETFROM:+0100
TZOFFSETTO:+0200
TZNAME:CEST
DTSTART:20240331T010000
END:DAYLIGHT
BEGIN:STANDARD
TZOFFSETFROM:+0200
TZOFFSETTO:+0100
TZNAME:CET
DTSTART:20241027T010000
END:STANDARD
END:VTIMEZONE
BEGIN:VEVENT
DTSTART;TZID=Europe/Berlin:20230409T060000
DTEND;TZID=Europe/Berlin:20230409T073000
DTSTAMP:20260422T153759
CREATED:20230214T131838Z
LAST-MODIFIED:20230214T131838Z
UID:10245-1681020000-1681025400@www.ev-kirche-dillenburg.de
SUMMARY:Gottesdienst zur Osternacht
DESCRIPTION:Mit Pfarrer Ralf Arnd Blecker\nAbendmahl\nKollekte: Arbeit mit Kindern u. Jugend in unserer Gemeinde \nAnschließend gemeinsames Osterfrühstück im Zwingel
URL:https://www.ev-kirche-dillenburg.de/veranstaltung/gottesdienst-zur-osternacht/
LOCATION:Ev. Stadtkirche Dillenburg\, Kirchberg 18\, Dillenburg\, Hessen\, 35683
CATEGORIES:Abendmahl,Gottesdienst,Ostern,Pfarrer Dr. Ackva
END:VEVENT
BEGIN:VEVENT
DTSTART;TZID=Europe/Berlin:20230409T100000
DTEND;TZID=Europe/Berlin:20230409T113000
DTSTAMP:20260422T153759
CREATED:20230214T132127Z
LAST-MODIFIED:20230214T132127Z
UID:10249-1681034400-1681039800@www.ev-kirche-dillenburg.de
SUMMARY:Vom Dunkel zum Licht · Gottesdienst zu Ostersonntag
DESCRIPTION:Mit Pfarrer Dr. Friedhelm Ackva\nMit Taufen; es singt der Kammerchor\nKollekte: Arbeit mit Kindern/Jugend (Dekanat)
URL:https://www.ev-kirche-dillenburg.de/veranstaltung/vom-dunkel-zum-licht-%c2%b7-gottesdienst-zu-ostersonntag/
LOCATION:Ev. Stadtkirche Dillenburg\, Kirchberg 18\, Dillenburg\, Hessen\, 35683
CATEGORIES:Gottesdienst,Ostern,Pfarrer Dr. Ackva
END:VEVENT
END:VCALENDAR