BEGIN:VCALENDAR
VERSION:2.0
PRODID:-//Ev. Kirche Dillenburg - ECPv6.15.16//NONSGML v1.0//EN
CALSCALE:GREGORIAN
METHOD:PUBLISH
X-ORIGINAL-URL:https://www.ev-kirche-dillenburg.de
X-WR-CALDESC:Veranstaltungen für Ev. Kirche Dillenburg
REFRESH-INTERVAL;VALUE=DURATION:PT1H
X-Robots-Tag:noindex
X-PUBLISHED-TTL:PT1H
BEGIN:VTIMEZONE
TZID:Europe/Berlin
BEGIN:DAYLIGHT
TZOFFSETFROM:+0100
TZOFFSETTO:+0200
TZNAME:CEST
DTSTART:20210328T010000
END:DAYLIGHT
BEGIN:STANDARD
TZOFFSETFROM:+0200
TZOFFSETTO:+0100
TZNAME:CET
DTSTART:20211031T010000
END:STANDARD
BEGIN:DAYLIGHT
TZOFFSETFROM:+0100
TZOFFSETTO:+0200
TZNAME:CEST
DTSTART:20220327T010000
END:DAYLIGHT
BEGIN:STANDARD
TZOFFSETFROM:+0200
TZOFFSETTO:+0100
TZNAME:CET
DTSTART:20221030T010000
END:STANDARD
BEGIN:DAYLIGHT
TZOFFSETFROM:+0100
TZOFFSETTO:+0200
TZNAME:CEST
DTSTART:20230326T010000
END:DAYLIGHT
BEGIN:STANDARD
TZOFFSETFROM:+0200
TZOFFSETTO:+0100
TZNAME:CET
DTSTART:20231029T010000
END:STANDARD
END:VTIMEZONE
BEGIN:VEVENT
DTSTART;TZID=Europe/Berlin:20221204T100000
DTEND;TZID=Europe/Berlin:20221204T103000
DTSTAMP:20260422T230613
CREATED:20220723T120329Z
LAST-MODIFIED:20221115T091944Z
UID:9180-1670148000-1670149800@www.ev-kirche-dillenburg.de
SUMMARY:Gottesdienst am 2. Advent
DESCRIPTION:2. Sonntag im Advent \nMit Pfarrer Ralf Blecker\nMit Abendmahl\nKollekte: Ev. Frauen in Hessen und Nassau e.V. sowie FIM – Frauenrecht ist Menschenrecht e.V. \nIm Augenblick gelten keine verpflichtenden Hygieneregeln. Wir bitten Sie jedoch trotzdem während des Gottesdienstes eine Maske zu tragen. Während der Predigt kann sie abgenommen werden. \nWINTERKIRCHE: Bitte beachten Sie\, dass entgegen Eintragungen im Gemeindebrief ab jetzt fast alle Gottesdienste\, die sonst in der Kirche stattfinden\, im Gemeindehaus stattfinden.
URL:https://www.ev-kirche-dillenburg.de/veranstaltung/gottesienst-am-2-advent/
LOCATION:Ev. Stadtkirche Dillenburg\, Kirchberg 18\, Dillenburg\, Hessen\, 35683
CATEGORIES:Abendmahl,Advent,Pfarrer Blecker
END:VEVENT
BEGIN:VEVENT
DTSTART;TZID=Europe/Berlin:20221204T110000
DTEND;TZID=Europe/Berlin:20221204T160000
DTSTAMP:20260422T230613
CREATED:20221108T102346Z
LAST-MODIFIED:20221110T054949Z
UID:9567-1670151600-1670169600@www.ev-kirche-dillenburg.de
SUMMARY:Weihnachtsmarkt im Ev. Gemeindehaus Dillenburg
DESCRIPTION:Nach einer langen Durststrecke und Zeit des Verzichts ist es endlich wieder soweit und der beliebte Kreativmarkt kann wieder stattfinden. Das Evangelische Gemeindehaus am Zwingel öffnet am 4.12. ab 11 Uhr dafür seine Türen.\nHandverlesene\, individuelle und kreative Künstler:innen präsentieren ihre Produkte. Schmuck\, Genähtes und Gefilztes\, selbstkreierte Karten\, Laternen\, Holzprodukte\, Hundespielzeug und vieles mehr kann in der Zeit von 11 bis 16 Uhr bestaunt\, ausprobiert und gekauft werden. Und natürlich ist auch für das leibliche Wohl gesorgt.\nWir freuen uns auf Ihr Kommen und einen stimmungsvollen Tag!
URL:https://www.ev-kirche-dillenburg.de/veranstaltung/weihnachtsmarkt-im-ev-gemeindehaus-dillenburg/
LOCATION:Gemeindehaus am Zwingel\, Am Zwingel 3\, Dillenburg\, Hessen\, 35683
CATEGORIES:Veranstaltung,Weihnachten
END:VEVENT
BEGIN:VEVENT
DTSTART;TZID=Europe/Berlin:20221204T170000
DTEND;TZID=Europe/Berlin:20221204T193000
DTSTAMP:20260422T230613
CREATED:20221106T104612Z
LAST-MODIFIED:20221122T094832Z
UID:9544-1670173200-1670182200@www.ev-kirche-dillenburg.de
SUMMARY:Konzert · Oratorio de Noël
DESCRIPTION:Wichtiger Hinweis: Das Konzert findet aus organisatorischen Gründen in der Evangelischen Stadtkirche statt und nicht\, wie geplant\, in der Kath. Pfarrkirche ! \nChorkonzert\nCamille Saint-Saëns\nOratorio de Noël op 12\nsowie Werke von Jenkins\, Debussy\, Franck und Mendelssohn Bertholdy \nAusführende:\nBritta Stallmeister (Sopran)\nManuela Meyer (Mezzosoprn)\nChristine Schmitt (Alt)\nDoninic Stewart (Tenor)\nStefan Grunwald (Bass) \nJohanniskantorei der Ev. Kirchengemeinde Dillenburg\nRussische Kammerphilharmonie St. Petersburg \nLeitung: Petra Denker\nEintrit18€ (ermäßigt 15€)\, Schülerinnen/Schüler\, Student:innen frei\, Hörplätze (Hocker) 8€\, Abendkasse ab 16 Uhr \nVorverkauf ab 14.November in der Buchhandlung Rübezahl\, Hüttenplatz 14 und im Weltladen\, Hauptstraße 93 in 35683 Dillenburg \nUnterstützt von der Sparkasse Dillenburg
URL:https://www.ev-kirche-dillenburg.de/veranstaltung/konzert-%c2%b7-oratorio-de-noel/
LOCATION:Ev. Stadtkirche Dillenburg\, Kirchberg 18\, Dillenburg\, Hessen\, 35683
CATEGORIES:Konzert,Musik
END:VEVENT
BEGIN:VEVENT
DTSTART;TZID=Europe/Berlin:20221211T100000
DTEND;TZID=Europe/Berlin:20221211T113000
DTSTAMP:20260422T230613
CREATED:20221120T163622Z
LAST-MODIFIED:20221208T081649Z
UID:9635-1670752800-1670758200@www.ev-kirche-dillenburg.de
SUMMARY:Gottesdienst am 3. Advent (mit Kindergottesdienst)
DESCRIPTION:Mit Pfarrer Ralf Arnd Blecker\nMusik: Benjamin Gail\nKollekte: Kinderkantorei \nParallel dazu um 10 Uhr im Zwingel Kindergottesdienst\nmit Niklas\, Jacqueline & Team.
URL:https://www.ev-kirche-dillenburg.de/veranstaltung/gottesdienst-am-3-advent-mit-kindergottesdienst/
LOCATION:Gemeindehaus am Zwingel\, Am Zwingel 3\, Dillenburg\, Hessen\, 35683
CATEGORIES:Advent,Gottesdienst,Pfarrer Blecker
END:VEVENT
BEGIN:VEVENT
DTSTART;TZID=Europe/Berlin:20221211T170000
DTEND;TZID=Europe/Berlin:20221211T183000
DTSTAMP:20260422T230613
CREATED:20221213T095333Z
LAST-MODIFIED:20221213T095340Z
UID:9895-1670778000-1670783400@www.ev-kirche-dillenburg.de
SUMMARY:Kinder singen zur Weihnachtszeit
DESCRIPTION:Am 11. Dezember findet um 17 Uhr wieder das beliebte Adventskonzert der Singschule Dillenburg statt. Unter dem Titel „Kinder singen zur Weihnachtszeit“ führen die Nachwuchssänger in diesem Jahr die „Weihnachtsgeschichte“ von Carl Orff und Gunild Keetman auf. Ergänzt wird das Programm mit Instrumentalstücken und Liedern zum Zuhören und Mitmachen. Ausführende sind die Kinderkantorei\, der Figuralchor sowie ein Instrumental-Ensemble der Kreismusikschule Westerwald und der Lahn-Dill-Akademie. Die Leitung haben Petra Denker und Torsten Greis. Der Eintritt ist frei\, am Ausgang erbitten wir eine Spende für die Förderung der Singschule\nDillenburg. \nDas Konzert wird bereits am 10. Dezember um 17 Uhr in der evangelischen Kirche in Kirburg aufgeführt.
URL:https://www.ev-kirche-dillenburg.de/veranstaltung/kinder-singen-zur-weihnachtszeit/
LOCATION:Ev. Stadtkirche Dillenburg\, Kirchberg 18\, Dillenburg\, Hessen\, 35683
CATEGORIES:Konzert,Musik,Weihnachten
END:VEVENT
BEGIN:VEVENT
DTSTART;TZID=Europe/Berlin:20221218T100000
DTEND;TZID=Europe/Berlin:20221218T113000
DTSTAMP:20260422T230613
CREATED:20221120T163728Z
LAST-MODIFIED:20221212T153619Z
UID:9637-1671357600-1671363000@www.ev-kirche-dillenburg.de
SUMMARY:Gottesdienst am 4. Advent
DESCRIPTION:Mit Pfarrer i.R. Wilfried Höll \nKollekte: Für die AG Hospiz der EKHN
URL:https://www.ev-kirche-dillenburg.de/veranstaltung/gottesdienst-am-4-advent/
LOCATION:Gemeindehaus am Zwingel\, Am Zwingel 3\, Dillenburg\, Hessen\, 35683
CATEGORIES:Advent,Gottesdienst
END:VEVENT
BEGIN:VEVENT
DTSTART;TZID=Europe/Berlin:20221224T150000
DTEND;TZID=Europe/Berlin:20221224T163000
DTSTAMP:20260422T230613
CREATED:20221120T163904Z
LAST-MODIFIED:20221120T165358Z
UID:9639-1671894000-1671899400@www.ev-kirche-dillenburg.de
SUMMARY:Krippenspiel-Gottesdienst
DESCRIPTION:Mit Pfarrer Dr. Friedhelm Ackva\nMit dem neuem Konfi-Kurs \nKollekte: Brot für die Welt\, Diakonie Deutschland
URL:https://www.ev-kirche-dillenburg.de/veranstaltung/krippenspiel-gottesdienst/
LOCATION:Gemeindehaus am Zwingel\, Am Zwingel 3\, Dillenburg\, Hessen\, 35683
CATEGORIES:Gottesdienst,Pfarrer Dr. Ackva,Weihnachten
END:VEVENT
BEGIN:VEVENT
DTSTART;TZID=Europe/Berlin:20221224T163000
DTEND;TZID=Europe/Berlin:20221224T180000
DTSTAMP:20260422T230613
CREATED:20221120T164014Z
LAST-MODIFIED:20221208T045212Z
UID:9642-1671899400-1671904800@www.ev-kirche-dillenburg.de
SUMMARY:Heiligabend Familiengottesdienst
DESCRIPTION:Mit Pfarrer Ralf Arnd Blecker\nEs singt Kinderkantorei\, Figuralchor\, Gäste \nKollekte: Brot für die Welt\, Diakonie Deutschland
URL:https://www.ev-kirche-dillenburg.de/veranstaltung/heiligabend-familie/
LOCATION:Ev. Stadtkirche Dillenburg\, Kirchberg 18\, Dillenburg\, Hessen\, 35683
CATEGORIES:Gottesdienst,Pfarrer Dr. Ackva,Weihnachten
END:VEVENT
BEGIN:VEVENT
DTSTART;TZID=Europe/Berlin:20221224T220000
DTEND;TZID=Europe/Berlin:20221224T233000
DTSTAMP:20260422T230613
CREATED:20221120T164203Z
LAST-MODIFIED:20221208T045241Z
UID:9644-1671919200-1671924600@www.ev-kirche-dillenburg.de
SUMMARY:Christmette
DESCRIPTION:Mit Prädikantin Silke Pauli\nEs singt die Johanniskantorei \nKollekte: Brot für die Welt\, Diakonie Deutschland
URL:https://www.ev-kirche-dillenburg.de/veranstaltung/christmette/
LOCATION:Ev. Stadtkirche Dillenburg\, Kirchberg 18\, Dillenburg\, Hessen\, 35683
CATEGORIES:Gottesdienst,Pfarrer Dr. Ackva,Weihnachten
END:VEVENT
BEGIN:VEVENT
DTSTART;TZID=Europe/Berlin:20221225T100000
DTEND;TZID=Europe/Berlin:20221225T113000
DTSTAMP:20260422T230613
CREATED:20221120T164304Z
LAST-MODIFIED:20221120T164659Z
UID:9646-1671962400-1671967800@www.ev-kirche-dillenburg.de
SUMMARY:1. Weihnachtstag
DESCRIPTION:Mit Pröpstin Sabine Bertram-Schäfer\nEs singt der Kammerchor\nKollekte: Kammerchor
URL:https://www.ev-kirche-dillenburg.de/veranstaltung/1-weihnachtstag-2/
LOCATION:Ev. Stadtkirche Dillenburg\, Kirchberg 18\, Dillenburg\, Hessen\, 35683
CATEGORIES:Gottesdienst,Pröpstin Bertram-Schäfer,Weihnachten
END:VEVENT
BEGIN:VEVENT
DTSTART;TZID=Europe/Berlin:20221226T100000
DTEND;TZID=Europe/Berlin:20221226T113000
DTSTAMP:20260422T230613
CREATED:20221120T164605Z
LAST-MODIFIED:20221208T045541Z
UID:9650-1672048800-1672054200@www.ev-kirche-dillenburg.de
SUMMARY:2. Weihnachtstag
DESCRIPTION:Mit Pfarrer Ralf Arnd Blecker\nmit Abendmahl\nEs musiziert der CVJM-Posaunenchor \nKollekte: CVJM-Posaunenchor
URL:https://www.ev-kirche-dillenburg.de/veranstaltung/2-weihnachtstag-2/
LOCATION:Ev. Stadtkirche Dillenburg\, Kirchberg 18\, Dillenburg\, Hessen\, 35683
CATEGORIES:Abendmahl,Gottesdienst,Pfarrer Dr. Ackva,Weihnachten
END:VEVENT
BEGIN:VEVENT
DTSTART;TZID=Europe/Berlin:20221226T170000
DTEND;TZID=Europe/Berlin:20221226T183000
DTSTAMP:20260422T230613
CREATED:20221213T095141Z
LAST-MODIFIED:20221213T095141Z
UID:9893-1672074000-1672079400@www.ev-kirche-dillenburg.de
SUMMARY:Singen unterm Weihnachtsbaum
DESCRIPTION:Traditionsgemäß findet auch dieses Jahr am 2. Weihnachtstag um 17 Uhr das „Singen unterm Weihnachtsbaum“ statt. Wir wollen viele alte und bekannte Lieder singen und Erzählungen zur Weihnachtszeit lauschen. An der Orgel spielt Petra Denker. Am Ausgang kann eine Spende für die Kirchenmusik gegeben werden.
URL:https://www.ev-kirche-dillenburg.de/veranstaltung/singen-unterm-weihnachtsbaum/
LOCATION:Ev. Stadtkirche Dillenburg\, Kirchberg 18\, Dillenburg\, Hessen\, 35683
CATEGORIES:Musik,Weihnachten
END:VEVENT
BEGIN:VEVENT
DTSTART;TZID=Europe/Berlin:20221231T180000
DTEND;TZID=Europe/Berlin:20221231T193000
DTSTAMP:20260422T230613
CREATED:20221120T165033Z
LAST-MODIFIED:20221120T165033Z
UID:9652-1672509600-1672515000@www.ev-kirche-dillenburg.de
SUMMARY:Gottesdienst am Silvesterabend
DESCRIPTION:Pfarrer Dr. Friedhelm Ackva\nmit Abendmahl \nKollekte: Neue Glocken
URL:https://www.ev-kirche-dillenburg.de/veranstaltung/gottesdienst-am-silvesterabend-2/
LOCATION:Gemeindehaus Zwingel\, Am Zwingel 3\, Dillenburg\, Hessen\, 35683\, Deutschland
CATEGORIES:Abendmahl,Gottesdienst,Pfarrer Dr. Ackva
END:VEVENT
END:VCALENDAR