BEGIN:VCALENDAR
VERSION:2.0
PRODID:-//Ev. Kirche Dillenburg - ECPv6.15.16//NONSGML v1.0//EN
CALSCALE:GREGORIAN
METHOD:PUBLISH
X-WR-CALNAME:Ev. Kirche Dillenburg
X-ORIGINAL-URL:https://www.ev-kirche-dillenburg.de
X-WR-CALDESC:Veranstaltungen für Ev. Kirche Dillenburg
REFRESH-INTERVAL;VALUE=DURATION:PT1H
X-Robots-Tag:noindex
X-PUBLISHED-TTL:PT1H
BEGIN:VTIMEZONE
TZID:Europe/Berlin
BEGIN:DAYLIGHT
TZOFFSETFROM:+0100
TZOFFSETTO:+0200
TZNAME:CEST
DTSTART:20220327T010000
END:DAYLIGHT
BEGIN:STANDARD
TZOFFSETFROM:+0200
TZOFFSETTO:+0100
TZNAME:CET
DTSTART:20221030T010000
END:STANDARD
BEGIN:DAYLIGHT
TZOFFSETFROM:+0100
TZOFFSETTO:+0200
TZNAME:CEST
DTSTART:20230326T010000
END:DAYLIGHT
BEGIN:STANDARD
TZOFFSETFROM:+0200
TZOFFSETTO:+0100
TZNAME:CET
DTSTART:20231029T010000
END:STANDARD
BEGIN:DAYLIGHT
TZOFFSETFROM:+0100
TZOFFSETTO:+0200
TZNAME:CEST
DTSTART:20240331T010000
END:DAYLIGHT
BEGIN:STANDARD
TZOFFSETFROM:+0200
TZOFFSETTO:+0100
TZNAME:CET
DTSTART:20241027T010000
END:STANDARD
END:VTIMEZONE
BEGIN:VEVENT
DTSTART;TZID=Europe/Berlin:20230205T100000
DTEND;TZID=Europe/Berlin:20230205T113000
DTSTAMP:20260422T170238
CREATED:20221120T170910Z
LAST-MODIFIED:20221213T095614Z
UID:9665-1675591200-1675596600@www.ev-kirche-dillenburg.de
SUMMARY:Kantatengottesdienst
DESCRIPTION:Sonntag Septuagesimä\nMit Pfarrer Ralf Arnd Blecker \nDer Kammerchor Dillenburg\, Solisten und Mitglieder des Jungen Sinfonieorchesters Wetzlar führen am Sonntag\, 5. Februar um 10 Uhr unter Leitung von Petra Denker die Kantate „Mit Fried und Freud ich fahr dahin“ BWV 125 von Johann Sebastian Bach im Gottesdienst auf. Die liturgische Gestaltung übernimmt Pfarrer Dr. Friedhelm Ackva. Bach schrieb die Kantate zum Fest der Darstellung des Herrn am 2. Februar. Mit diesem Tag endet die nachweihnachtliche Epiphaniaszeit. Das der Kantate zugrunde liegende Lied „Mit Fried und Freud ich fahr dahin“ EG 519 stammt von Martin Luther und ist eine Nachdichtung des Lobgesangs des Simeon (Lukas 2\, 29–32). \nKollekte: Kirchenmusik
URL:https://www.ev-kirche-dillenburg.de/veranstaltung/kantatengottesdienst/
LOCATION:Ev. Stadtkirche Dillenburg\, Kirchberg 18\, Dillenburg\, Hessen\, 35683
CATEGORIES:Gottesdienst,Musik,Pfarrer Blecker
END:VEVENT
BEGIN:VEVENT
DTSTART;TZID=Europe/Berlin:20230212T100000
DTEND;TZID=Europe/Berlin:20230212T113000
DTSTAMP:20260422T170238
CREATED:20221120T171033Z
LAST-MODIFIED:20221120T171104Z
UID:9667-1676196000-1676201400@www.ev-kirche-dillenburg.de
SUMMARY:Gottesdienst (mit Kindergottesdienst)
DESCRIPTION:Sonntag Sexagesimä\nMit Pfarrer Dr. Friedhelm Ackva\nEs singt die Kinderkantorei\nKollekte: Hessische Lutherstiftung \nMit Kindergottesdienst um 10:00
URL:https://www.ev-kirche-dillenburg.de/veranstaltung/sonntag-sexagesimae-mit-kindergottesdienst/
LOCATION:Gemeindehaus am Zwingel\, Am Zwingel 3\, Dillenburg\, Hessen\, 35683
CATEGORIES:Gottesdienst,Kindergottesdienst,Pfarrer Dr. Ackva
END:VEVENT
BEGIN:VEVENT
DTSTART;TZID=Europe/Berlin:20230218T090000
DTEND;TZID=Europe/Berlin:20230218T163000
DTSTAMP:20260422T170238
CREATED:20230214T113311Z
LAST-MODIFIED:20230214T113311Z
UID:10215-1676710800-1676737800@www.ev-kirche-dillenburg.de
SUMMARY:Kinderbibeltag
DESCRIPTION:Mut tut gut! \n\n \n\nAm 18.2.2023 von 9 Uhr bis ca. 16.30 Uhr findet im Gemeindehaus Am Zwingel 3 wieder der Kinderbibeltag statt! Kinder von 5 bis 12 Jahre sind herzlich eingeladen einen tollen Tag mit uns zu erleben. Wir spielen\, singen und basteln und essen zusammen rund um die Geschichte von Ester\, die vielen Menschen das Leben gerettet hat! Am 19.2. feiern wir dann gemeinsam Gottesdienst in der Stadtkirche (anschl. buntes Mittagessen im Zwingel).\n\n \n\nBitte meldet Euch an: \nAnmeldeformular abschneiden/downloaden*\, ausfüllen und abgeben im Gemeindebüro oder per E-Mail an kirchengemeinde.dillenburg@ekhn.de. Telefonische Anmeldung: 02771/5306.\nUnkostenbeitrag: € 3\n\n \nDownload Anmeldung
URL:https://www.ev-kirche-dillenburg.de/veranstaltung/kinderbibeltag/
LOCATION:Gemeindehaus am Zwingel\, Am Zwingel 3\, Dillenburg\, Hessen\, 35683
CATEGORIES:Kinder,Veranstaltung
END:VEVENT
BEGIN:VEVENT
DTSTART;TZID=Europe/Berlin:20230219T100000
DTEND;TZID=Europe/Berlin:20230219T113000
DTSTAMP:20260422T170238
CREATED:20221120T171232Z
LAST-MODIFIED:20230218T195114Z
UID:9670-1676800800-1676806200@www.ev-kirche-dillenburg.de
SUMMARY:Gottesdienst
DESCRIPTION:Sonntag Estomihi\nAbschlussgottesdienst DJI\nMit Pfarrer Dr. Friedhelm Ackva \nKollekte: Konfi-Castle CVJM
URL:https://www.ev-kirche-dillenburg.de/veranstaltung/gottesdienst-65/
LOCATION:Ev. Stadtkirche Dillenburg\, Kirchberg 18\, Dillenburg\, Hessen\, 35683
CATEGORIES:Gottesdienst,Pfarrer Dr. Ackva
END:VEVENT
BEGIN:VEVENT
DTSTART;TZID=Europe/Berlin:20230226T100000
DTEND;TZID=Europe/Berlin:20230226T113000
DTSTAMP:20260422T170238
CREATED:20221120T171430Z
LAST-MODIFIED:20221120T171430Z
UID:9673-1677405600-1677411000@www.ev-kirche-dillenburg.de
SUMMARY:Gottesdienst (mit Kindergottesdienst)
DESCRIPTION:Sonntag Invocavit\nMit Pfarrer Ralf Arnd Blecker\nEs singt die Johanniskantorei \nKollekte: Christen helfen \nKindergottesdienst parallell zum Gottesdienst um 10 uhr
URL:https://www.ev-kirche-dillenburg.de/veranstaltung/gottesdienst-mit-kindergottesdienst-2/
LOCATION:Gemeindehaus am Zwingel\, Am Zwingel 3\, Dillenburg\, Hessen\, 35683
CATEGORIES:Gottesdienst,Kindergottesdienst,Pfarrer Blecker
END:VEVENT
END:VCALENDAR