BEGIN:VCALENDAR
VERSION:2.0
PRODID:-//Ev. Kirche Dillenburg - ECPv6.15.16//NONSGML v1.0//EN
CALSCALE:GREGORIAN
METHOD:PUBLISH
X-ORIGINAL-URL:https://www.ev-kirche-dillenburg.de
X-WR-CALDESC:Veranstaltungen für Ev. Kirche Dillenburg
REFRESH-INTERVAL;VALUE=DURATION:PT1H
X-Robots-Tag:noindex
X-PUBLISHED-TTL:PT1H
BEGIN:VTIMEZONE
TZID:Europe/Berlin
BEGIN:DAYLIGHT
TZOFFSETFROM:+0100
TZOFFSETTO:+0200
TZNAME:CEST
DTSTART:20220327T010000
END:DAYLIGHT
BEGIN:STANDARD
TZOFFSETFROM:+0200
TZOFFSETTO:+0100
TZNAME:CET
DTSTART:20221030T010000
END:STANDARD
BEGIN:DAYLIGHT
TZOFFSETFROM:+0100
TZOFFSETTO:+0200
TZNAME:CEST
DTSTART:20230326T010000
END:DAYLIGHT
BEGIN:STANDARD
TZOFFSETFROM:+0200
TZOFFSETTO:+0100
TZNAME:CET
DTSTART:20231029T010000
END:STANDARD
BEGIN:DAYLIGHT
TZOFFSETFROM:+0100
TZOFFSETTO:+0200
TZNAME:CEST
DTSTART:20240331T010000
END:DAYLIGHT
BEGIN:STANDARD
TZOFFSETFROM:+0200
TZOFFSETTO:+0100
TZNAME:CET
DTSTART:20241027T010000
END:STANDARD
END:VTIMEZONE
BEGIN:VEVENT
DTSTART;TZID=Europe/Berlin:20230506T180000
DTEND;TZID=Europe/Berlin:20230506T193000
DTSTAMP:20260422T122240
CREATED:20230214T133742Z
LAST-MODIFIED:20230214T133742Z
UID:10277-1683396000-1683401400@www.ev-kirche-dillenburg.de
SUMMARY:Gottesdienst mit Konfi-Abendmahl
DESCRIPTION:Mit Pfarrer Ralf Arnd Blecker\nKollekte: Von den Konfis gewählt
URL:https://www.ev-kirche-dillenburg.de/veranstaltung/gottesdienst-mit-konfi-abendmahl/
LOCATION:Ev. Stadtkirche Dillenburg\, Kirchberg 18\, Dillenburg\, Hessen\, 35683
CATEGORIES:Gottesdienst,Konfirmation,Pfarrer Blecker
END:VEVENT
BEGIN:VEVENT
DTSTART;TZID=Europe/Berlin:20230507T100000
DTEND;TZID=Europe/Berlin:20230507T113000
DTSTAMP:20260422T122240
CREATED:20230214T133858Z
LAST-MODIFIED:20230214T133858Z
UID:10281-1683453600-1683459000@www.ev-kirche-dillenburg.de
SUMMARY:Konfirmationsgottesdienst
DESCRIPTION:Sonntag Kantate\nMit Pfarrer Ralf Arnd Blecker\nEs singt der Figuralchor\nKollekte: Von den Konfis gewählt
URL:https://www.ev-kirche-dillenburg.de/veranstaltung/konfirmationsgottesdienst/
LOCATION:Ev. Stadtkirche Dillenburg\, Kirchberg 18\, Dillenburg\, Hessen\, 35683
CATEGORIES:Gottesdienst,Konfirmation,Pfarrer Blecker
END:VEVENT
BEGIN:VEVENT
DTSTART;TZID=Europe/Berlin:20230514T110000
DTEND;TZID=Europe/Berlin:20230514T113000
DTSTAMP:20260422T122240
CREATED:20230214T134134Z
LAST-MODIFIED:20230214T135305Z
UID:10285-1684062000-1684063800@www.ev-kirche-dillenburg.de
SUMMARY:Ökum. Gottesdienst zum Gedenken des Stadtbrandes 1723 (mit Kigo)
DESCRIPTION:Sonntag Rogate\nMit Pfarrer Dr. Friedhelm Ackva\, Ann-Sophie Petry\, Pastor Dr. Lothar Beaupain Mit Kindergottesdienst\nKollekte: Dillenburger Jugend-Initiative (DJI)
URL:https://www.ev-kirche-dillenburg.de/veranstaltung/oekum-gottesdienst-zum-gedenken-des-stadtbrandes-1723/
LOCATION:Villa Grün\, Schloßberg 3\, Dillenburg\, Hessen\, 35683\, Deutschland
CATEGORIES:Gemeinsam,Gottesdienst,Kindergottesdienst,Ökumene,Pfarrer Dr. Ackva
END:VEVENT
BEGIN:VEVENT
DTSTART;TZID=Europe/Berlin:20230514T170000
DTEND;TZID=Europe/Berlin:20230514T190000
DTSTAMP:20260422T122240
CREATED:20230214T091215Z
LAST-MODIFIED:20230214T091215Z
UID:10192-1684083600-1684090800@www.ev-kirche-dillenburg.de
SUMMARY:Missa a Buenos Aires · Tangomesse
DESCRIPTION:Frühjahrskonzert mit der Johanniskantorei Dillenburg\nMissa a Buenos Aires · Tangomesse\nVon Martín Palmeri sowie Werke von Astor Piazozlla \n15€ (ermäßigt 10€)\, freie Platzwahl \nVorverkauf in Dillenburg ab 17. April 2023 in der Buchhandlüng rübezahl\, Hüttenplatz 14 und im Weltladen\, Hauptstadtße 93\nAbendkasse ab 16 Uhr \nIm Anschluss an das Konzert:\nAb 19.00 Uhr gibt es Milonga undargentinischer Tango im Gemeindehaus\, Am Zwingel 3 in Dillenburg
URL:https://www.ev-kirche-dillenburg.de/veranstaltung/missa-a-buenos-aires-%c2%b7-tangomesse/
LOCATION:Ev. Stadtkirche Dillenburg\, Kirchberg 18\, Dillenburg\, Hessen\, 35683
CATEGORIES:Konzert,Musik,Veranstaltung
END:VEVENT
BEGIN:VEVENT
DTSTART;TZID=Europe/Berlin:20230518T110000
DTEND;TZID=Europe/Berlin:20230518T123000
DTSTAMP:20260422T122240
CREATED:20230214T134358Z
LAST-MODIFIED:20230517T203220Z
UID:10289-1684407600-1684413000@www.ev-kirche-dillenburg.de
SUMMARY:Gottesdienst zu Himmelfahrt
DESCRIPTION:Kooperation Evangelisch rund um den Wilhelmsturm\nMit Pfarrer Dr. Friedhelm Ackva\nEs musiziert der Posaunenchor (vsl.)\nKollekte: Missionswerke EMS und VEM
URL:https://www.ev-kirche-dillenburg.de/veranstaltung/gottesdienst-zu-himmelfahrt/
LOCATION:Im Hofgarten in Dillenburg
CATEGORIES:Ev. rund um den Wilhelmsturm,Gottesdienst,Pfarrer Dr. Ackva
END:VEVENT
BEGIN:VEVENT
DTSTART;TZID=Europe/Berlin:20230521T100000
DTEND;TZID=Europe/Berlin:20230521T103000
DTSTAMP:20260422T122240
CREATED:20230214T134458Z
LAST-MODIFIED:20230214T134458Z
UID:10293-1684663200-1684665000@www.ev-kirche-dillenburg.de
SUMMARY:Gottesdienst
DESCRIPTION:Sonntag Exaudi\nMit Pröpstin Sabine Bertram-Schäfer\nKollekte: Energie-Optimierung
URL:https://www.ev-kirche-dillenburg.de/veranstaltung/gottesdienst-5/
LOCATION:Ev. Stadtkirche Dillenburg\, Kirchberg 18\, Dillenburg\, Hessen\, 35683
CATEGORIES:Gottesdienst,Pröpstin Bertram-Schäfer
END:VEVENT
BEGIN:VEVENT
DTSTART;TZID=Europe/Berlin:20230528T100000
DTEND;TZID=Europe/Berlin:20230528T113000
DTSTAMP:20260422T122240
CREATED:20230214T134634Z
LAST-MODIFIED:20230214T135334Z
UID:10297-1685268000-1685273400@www.ev-kirche-dillenburg.de
SUMMARY:Gottesdienst zu Pfingstsonntag (mit Kigo im Zwingel)
DESCRIPTION:Mit Pfarrer Dr. Friedhelm Ackva\nAbendmahl\nEs singt der Kammerchor\nKollekte: Arbeit Ökum. Rat d. Kirchen (ÖRK) \nParallel zum Gottesdienst in der Stadtkirche findet um 10 Uhr Kindergottesdienst im Zwingel statt
URL:https://www.ev-kirche-dillenburg.de/veranstaltung/gottesdienst-zu-pfingstsonntag/
LOCATION:Ev. Stadtkirche Dillenburg\, Kirchberg 18\, Dillenburg\, Hessen\, 35683
CATEGORIES:Abendmahl,Gottesdienst,Kindergottesdienst,Pfarrer Dr. Ackva
END:VEVENT
BEGIN:VEVENT
DTSTART;TZID=Europe/Berlin:20230529T100000
DTEND;TZID=Europe/Berlin:20230529T113000
DTSTAMP:20260422T122240
CREATED:20230214T134753Z
LAST-MODIFIED:20230214T134753Z
UID:10301-1685354400-1685359800@www.ev-kirche-dillenburg.de
SUMMARY:Gottesdienst am Pfingstmontag
DESCRIPTION:Mit Pfarrer Ralf Arnd Blecker\nAbendmahl\nKollekte: Wycliff Bibelübersetzer
URL:https://www.ev-kirche-dillenburg.de/veranstaltung/gottesdienst-am-pfingstmontag/
LOCATION:Gemeindehaus am Zwingel\, Am Zwingel 3\, Dillenburg\, Hessen\, 35683
CATEGORIES:Abendmahl,Gottesdienst,Pfarrer Blecker
END:VEVENT
BEGIN:VEVENT
DTSTART;TZID=Europe/Berlin:20230529T170000
DTEND;TZID=Europe/Berlin:20230529T190000
DTSTAMP:20260422T122240
CREATED:20230214T090541Z
LAST-MODIFIED:20230214T090541Z
UID:10188-1685379600-1685386800@www.ev-kirche-dillenburg.de
SUMMARY:Wandelkonzert & Wein
DESCRIPTION:Besuchen Sie wieder das beliebte Wandelkonzert an beiden Dillenburger Orgeln. Beginn ist um 17 Uhr in der evangelischen Stadtkirche\, die Fortsetzung folgt in der katholischen Pfarrkirche. In diesem Jahr musizieren Petra Denker und Joachim Dreher  unter dem Motto „Concerto“ Orgelwerke u.a. von Antonio Vivaldi\, J.G. Walther und J.S. Bach. Abgerundet wird das Konzert durch Choralbearbeitungen für Orgel zum Osterfest und zu Pfingsten. \nAnschließend gibt es im Pfarrsaal der kath. Pfarrgemeinde einen Aperitif mit Weinen des bischöflichen Weinguts und des Weinguts Manz (EKHN). \nDer Eintritt zum Konzert beträgt 10 € (ermäßigt 8 €). Schülerinnen und Schüler sowie Studentinnen und Studenten haben freien Eintritt
URL:https://www.ev-kirche-dillenburg.de/veranstaltung/wandelkonzert-wein/
LOCATION:Ev. Stadtkirche & kath. Pfarrkirche Herz Jesu
CATEGORIES:Konzert,Musik,Veranstaltung
END:VEVENT
END:VCALENDAR