BEGIN:VCALENDAR
VERSION:2.0
PRODID:-//Ev. Kirche Dillenburg - ECPv6.15.16//NONSGML v1.0//EN
CALSCALE:GREGORIAN
METHOD:PUBLISH
X-ORIGINAL-URL:https://www.ev-kirche-dillenburg.de
X-WR-CALDESC:Veranstaltungen für Ev. Kirche Dillenburg
REFRESH-INTERVAL;VALUE=DURATION:PT1H
X-Robots-Tag:noindex
X-PUBLISHED-TTL:PT1H
BEGIN:VTIMEZONE
TZID:Europe/Berlin
BEGIN:DAYLIGHT
TZOFFSETFROM:+0100
TZOFFSETTO:+0200
TZNAME:CEST
DTSTART:20220327T010000
END:DAYLIGHT
BEGIN:STANDARD
TZOFFSETFROM:+0200
TZOFFSETTO:+0100
TZNAME:CET
DTSTART:20221030T010000
END:STANDARD
BEGIN:DAYLIGHT
TZOFFSETFROM:+0100
TZOFFSETTO:+0200
TZNAME:CEST
DTSTART:20230326T010000
END:DAYLIGHT
BEGIN:STANDARD
TZOFFSETFROM:+0200
TZOFFSETTO:+0100
TZNAME:CET
DTSTART:20231029T010000
END:STANDARD
BEGIN:DAYLIGHT
TZOFFSETFROM:+0100
TZOFFSETTO:+0200
TZNAME:CEST
DTSTART:20240331T010000
END:DAYLIGHT
BEGIN:STANDARD
TZOFFSETFROM:+0200
TZOFFSETTO:+0100
TZNAME:CET
DTSTART:20241027T010000
END:STANDARD
END:VTIMEZONE
BEGIN:VEVENT
DTSTART;TZID=Europe/Berlin:20230604T100000
DTEND;TZID=Europe/Berlin:20230604T113000
DTSTAMP:20260420T121200
CREATED:20230214T134911Z
LAST-MODIFIED:20230214T134911Z
UID:10305-1685872800-1685878200@www.ev-kirche-dillenburg.de
SUMMARY:Gottesdienst
DESCRIPTION:Sonntag Trinitatis\nMit Pfarrer Ralf Arnd Blecker\nKollekte: Tafel Dillenburg
URL:https://www.ev-kirche-dillenburg.de/veranstaltung/gottesdienst-6/
LOCATION:Ev. Stadtkirche Dillenburg\, Kirchberg 18\, Dillenburg\, Hessen\, 35683
CATEGORIES:Gottesdienst,Pfarrer Blecker
END:VEVENT
BEGIN:VEVENT
DTSTART;TZID=Europe/Berlin:20230611T100000
DTEND;TZID=Europe/Berlin:20230611T113000
DTSTAMP:20260420T121200
CREATED:20230517T073500Z
LAST-MODIFIED:20230517T073500Z
UID:10782-1686477600-1686483000@www.ev-kirche-dillenburg.de
SUMMARY:Gottesdienst mit Kindergottesdienst
DESCRIPTION:1. Sonntag nach Trinitatis\nMit Pfarrer Ralf Arnd Blecker\nKollekte: Deutscher Ev. Kirchentag\nMit Kindergottesdienst \nAnschließend gemeinsames Mittagessen
URL:https://www.ev-kirche-dillenburg.de/veranstaltung/gottesdienst-mit-kindergottesdienst-3/
LOCATION:Gemeindehaus am Zwingel\, Am Zwingel 3\, Dillenburg\, Hessen\, 35683
CATEGORIES:Gottesdienst
END:VEVENT
BEGIN:VEVENT
DTSTART;TZID=Europe/Berlin:20230615T170000
DTEND;TZID=Europe/Berlin:20230615T193000
DTSTAMP:20260420T121200
CREATED:20230517T044515Z
LAST-MODIFIED:20230606T105833Z
UID:10729-1686848400-1686857400@www.ev-kirche-dillenburg.de
SUMMARY:Konzert: Sommermusik im Zwingel
DESCRIPTION:In Kooperation mit der Musikschule der Lahn-Dill-Akademie veranstaltet die evangelische Kirchengemeinde am 15.Juli um 19.00 Uhr eine „Sommermusik“ im Gemeindehaus Am Zwingel 3 in Dillenburg. Es erklingen sowohl klassische Werke als auch moderne Stücke verschiedener Stile. Schüler und Lehrer musizieren auf dem Violoncello\, unterschiedlichen Flöteninstrumenten und dem Klavier und spannen einen Bogen vom 18. Jahrhundert bis in die heutige Zeit. Am Klavier begleitet Propsteikantorin Petra Denker. \nDer Eintritt zum Konzert ist frei\, am Ende des Konzerts wird am Ausgang um eine Spende gebeten. Vielen Dank!
URL:https://www.ev-kirche-dillenburg.de/veranstaltung/konzert-sommermusik-im-zwingel/
LOCATION:Gemeindehaus am Zwingel\, Am Zwingel 3\, Dillenburg\, Hessen\, 35683
CATEGORIES:Konzert,Veranstaltung
END:VEVENT
BEGIN:VEVENT
DTSTART;TZID=Europe/Berlin:20230617T110000
DTEND;TZID=Europe/Berlin:20230617T160000
DTSTAMP:20260420T121200
CREATED:20230517T053603Z
LAST-MODIFIED:20230517T053655Z
UID:10764-1686999600-1687017600@www.ev-kirche-dillenburg.de
SUMMARY:Kinderfest · WIR am Zwingel
DESCRIPTION:Wir laden die Familien der Kita\, Gemeindemitglieder\, Nachbarn am Zwingel und alle\, die mitfeiern wollen\, herzlich ein zu diesem besonderen Fest mitten in der Stadt! \nProgramm*\n11.15 Uhr Gemeinsamer „Impuls“\n11.30 Uhr Spielstationen u.a. mit Kinderschminken\, Shuffleboard\, Corn Hole\, Scheibentennis\, Wurfmaschine\, Bildhauerei\, Alte Spiele\, Fotobox\, Balancespiel …\n12.00 Uhr Vorführung einer Tanzgruppe\n13.30 Uhr WIR im Gespräch\n14.00 Uhr Offenes Singen\n15.15 Uhr Gemeinsamer „Impuls“ \nund: \n\nSpontan-Orchester (Gerne eigene Instrumente mitbringen)\nStrick-Aktion\nRiesenseifenblasen\nKuchenbufett\nInternationales Speisebufett\nWürstchen vom Grill (Schwein u. Rind)\n\nOrt: in Dillenburg\, Am Zwingel 1 u. 3\, AWO-Kita und Gemeindehaus\, drinnen und draußen.\n*Programm ist vorläufig
URL:https://www.ev-kirche-dillenburg.de/veranstaltung/kinderfest-%c2%b7-wir-am-zwingel/
LOCATION:Gemeindehaus am Zwingel\, Am Zwingel 3\, Dillenburg\, Hessen\, 35683
CATEGORIES:Kinder,Veranstaltung
END:VEVENT
BEGIN:VEVENT
DTSTART;TZID=Europe/Berlin:20230618T100000
DTEND;TZID=Europe/Berlin:20230618T113000
DTSTAMP:20260420T121200
CREATED:20230517T073554Z
LAST-MODIFIED:20230517T073554Z
UID:10784-1687082400-1687087800@www.ev-kirche-dillenburg.de
SUMMARY:Gottesdienst
DESCRIPTION:2. Sonntag nach Trinitatis\nMit Pfarrer Dr. Friedhelm Ackva\nKollekte: Neue Glocken
URL:https://www.ev-kirche-dillenburg.de/veranstaltung/gottesdienst-8/
LOCATION:Ev. Stadtkirche Dillenburg\, Kirchberg 18\, Dillenburg\, Hessen\, 35683
CATEGORIES:Gottesdienst
END:VEVENT
BEGIN:VEVENT
DTSTART;TZID=Europe/Berlin:20230624T180000
DTEND;TZID=Europe/Berlin:20230624T193000
DTSTAMP:20260420T121200
CREATED:20230517T073728Z
LAST-MODIFIED:20230517T073728Z
UID:10786-1687629600-1687635000@www.ev-kirche-dillenburg.de
SUMMARY:Johannistag mit Tauffest
DESCRIPTION:Johannistag mit Tauffest\nauf dem Wilhelmsplatz am Brunnen\nMit Pfarrer Dr. Friedhelm Ackva und den Konfis
URL:https://www.ev-kirche-dillenburg.de/veranstaltung/johannistag-mit-tauffest/
LOCATION:Wilhelmsplatz Dillenburg
CATEGORIES:Gottesdienst,Taufe,Veranstaltung
END:VEVENT
BEGIN:VEVENT
DTSTART;TZID=Europe/Berlin:20230625T100000
DTEND;TZID=Europe/Berlin:20230625T113000
DTSTAMP:20260420T121200
CREATED:20230517T073912Z
LAST-MODIFIED:20230517T074434Z
UID:10789-1687687200-1687692600@www.ev-kirche-dillenburg.de
SUMMARY:Gottesdienst (parallel Kigo im Zwingel)
DESCRIPTION:3. Sonntag nach Trinitatis\nMit Pfarrer Dr. Friedhelm Ackva\nKollekte: Arbeitslosenfonds d. EKHN \nParallel zum Gottesdienst in der Kirche findet Kindergottesdienst im Gemeindehaus Am Zwingel 3 um 10 Uhr statt.
URL:https://www.ev-kirche-dillenburg.de/veranstaltung/gottesdienst-parallel-kigo-im-zwingel/
LOCATION:Ev. Stadtkirche Dillenburg\, Kirchberg 18\, Dillenburg\, Hessen\, 35683
CATEGORIES:Gottesdienst,Kindergottesdienst
END:VEVENT
END:VCALENDAR